Workbook

Sheet Sheet1
A1: 변경분류
B2: 계 | C2: 단체식사 | D2: 대형객실 | E2: 특정국가 | F2: 할랄음식 | G2: 자연풍경 | H2: 특색음식 | I2: 전통가옥 | J2: 서민음식 | K2: 기타추천
A3: 합계 | B3: =SUM(B4:B13) -> 104 | C3: =SUM(C4:C13) -> 20 | D3: =SUM(D4:D13) -> 8 | E3: =SUM(E4:E13) -> 5 | F3: =SUM(F4:F13) -> 5 | G3: =SUM(G4:G13) -> 6 | H3: =SUM(H4:H13) -> 14 | I3: =SUM(I4:I13) -> 15 | ... K3: =SUM(K4:K13) -> 26
A4: 중구 | B4: =SUM(C4:K4) -> 14 | C4: =COUNTIF(변경분류!$L:$L,$A4&" "&C$2) -> 5 | D4: =COUNTIF(변경분류!$L:$L,$A4&" "&D$2) -> 0 | E4: =COUNTIF(변경분류!$L:$L,$A4&" "&E$2) -> 1 | F4: =COUNTIF(변경분류!$L:$L,$A4&" "&F$2) -> 1 | G4: =COUNTIF(변경분류!$L:$L,$A4&" "&G$2) -> 0 | H4: =COUNTIF(변경분류!$L:$L,$A4&" "&H$2) -> 1 | I4: =COUNTIF(변경분류!$L:$L,$A4&" "&I$2) -> 5 | J4: =COUNTIF(변경분류!$L:$L,$A4&" "&J$2) -> 0 | K4: =COUNTIF(변경분류!$L:$L,$A4&" "&K$2) -> 1
A5: 동구 | B5: =SUM(C5:K5) -> 6 | C5: =COUNTIF(변경분류!$L:$L,$A5&" "&C$2) -> 0 | D5: =COUNTIF(변경분류!$L:$L,$A5&" "&D$2) -> 0 | E5: =COUNTIF(변경분류!$L:$L,$A5&" "&E$2) -> 0 | F5: =COUNTIF(변경분류!$L:$L,$A5&" "&F$2) -> 0 | G5: =COUNTIF(변경분류!$L:$L,$A5&" "&G$2) -> 0 | H5: =COUNTIF(변경분류!$L:$L,$A5&" "&H$2) -> 0 | I5: =COUNTIF(변경분류!$L:$L,$A5&" "&I$2) -> 0 | J5: =COUNTIF(변경분류!$L:$L,$A5&" "&J$2) -> 0 | K5: =COUNTIF(변경분류!$L:$L,$A5&" "&K$2) -> 6
A6: 남구 | B6: =SUM(C6:K6) -> 5 | C6: =COUNTIF(변경분류!$L:$L,$A6&" "&C$2) -> 3 | D6: =COUNTIF(변경분류!$L:$L,$A6&" "&D$2) -> 0 | E6: =COUNTIF(변경분류!$L:$L,$A6&" "&E$2) -> 0 | F6: =COUNTIF(변경분류!$L:$L,$A6&" "&F$2) -> 0 | G6: =COUNTIF(변경분류!$L:$L,$A6&" "&G$2) -> 0 | H6: =COUNTIF(변경분류!$L:$L,$A6&" "&H$2) -> 0 | I6: =COUNTIF(변경분류!$L:$L,$A6&" "&I$2) -> 0 | J6: =COUNTIF(변경분류!$L:$L,$A6&" "&J$2) -> 2 | K6: =COUNTIF(변경분류!$L:$L,$A6&" "&K$2) -> 0
A7: 연수구 | B7: =SUM(C7:K7) -> 10 | C7: =COUNTIF(변경분류!$L:$L,$A7&" "&C$2) -> 1 | D7: =COUNTIF(변경분류!$L:$L,$A7&" "&D$2) -> 1 | E7: =COUNTIF(변경분류!$L:$L,$A7&" "&E$2) -> 0 | F7: =COUNTIF(변경분류!$L:$L,$A7&" "&F$2) -> 4 | G7: =COUNTIF(변경분류!$L:$L,$A7&" "&G$2) -> 0 | H7: =COUNTIF(변경분류!$L:$L,$A7&" "&H$2) -> 2 | I7: =COUNTIF(변경분류!$L:$L,$A7&" "&I$2) -> 1 | J7: =COUNTIF(변경분류!$L:$L,$A7&" "&J$2) -> 0 | K7: =COUNTIF(변경분류!$L:$L,$A7&" "&K$2) -> 1
A8: 남동구 | B8: =SUM(C8:K8) -> 12 | C8: =COUNTIF(변경분류!$L:$L,$A8&" "&C$2) -> 3 | D8: =COUNTIF(변경분류!$L:$L,$A8&" "&D$2) -> 0 | E8: =COUNTIF(변경분류!$L:$L,$A8&" "&E$2) -> 1 | F8: =COUNTIF(변경분류!$L:$L,$A8&" "&F$2) -> 0 | G8: =COUNTIF(변경분류!$L:$L,$A8&" "&G$2) -> 1 | H8: =COUNTIF(변경분류!$L:$L,$A8&" "&H$2) -> 0 | I8: =COUNTIF(변경분류!$L:$L,$A8&" "&I$2) -> 1 | J8: =COUNTIF(변경분류!$L:$L,$A8&" "&J$2) -> 0 | K8: =COUNTIF(변경분류!$L:$L,$A8&" "&K$2) -> 6
A9: 부평구 | B9: =SUM(C9:K9) -> 11 | C9: =COUNTIF(변경분류!$L:$L,$A9&" "&C$2) -> 3 | D9: =COUNTIF(변경분류!$L:$L,$A9&" "&D$2) -> 2 | E9: =COUNTIF(변경분류!$L:$L,$A9&" "&E$2) -> 3 | F9: =COUNTIF(변경분류!$L:$L,$A9&" "&F$2) -> 0 | G9: =COUNTIF(변경분류!$L:$L,$A9&" "&G$2) -> 1 | H9: =COUNTIF(변경분류!$L:$L,$A9&" "&H$2) -> 1 | I9: =COUNTIF(변경분류!$L:$L,$A9&" "&I$2) -> 0 | J9: =COUNTIF(변경분류!$L:$L,$A9&" "&J$2) -> 0 | K9: =COUNTIF(변경분류!$L:$L,$A9&" "&K$2) -> 1
A10: 계양구 | B10: =SUM(C10:K10) -> 9 | C10: =COUNTIF(변경분류!$L:$L,$A10&" "&C$2) -> 0 | D10: =COUNTIF(변경분류!$L:$L,$A10&" "&D$2) -> 1 | E10: =COUNTIF(변경분류!$L:$L,$A10&" "&E$2) -> 0 | F10: =COUNTIF(변경분류!$L:$L,$A10&" "&F$2) -> 0 | G10: =COUNTIF(변경분류!$L:$L,$A10&" "&G$2) -> 1 | H10: =COUNTIF(변경분류!$L:$L,$A10&" "&H$2) -> 0 | I10: =COUNTIF(변경분류!$L:$L,$A10&" "&I$2) -> 1 | J10: =COUNTIF(변경분류!$L:$L,$A10&" "&J$2) -> 1 | K10: =COUNTIF(변경분류!$L:$L,$A10&" "&K$2) -> 5
A11: 서구 | B11: =SUM(C11:K11) -> 12 | C11: =COUNTIF(변경분류!$L:$L,$A11&" "&C$2) -> 2 | D11: =COUNTIF(변경분류!$L:$L,$A11&" "&D$2) -> 1 | E11: =COUNTIF(변경분류!$L:$L,$A11&" "&E$2) -> 0 | F11: =COUNTIF(변경분류!$L:$L,$A11&" "&F$2) -> 0 | G11: =COUNTIF(변경분류!$L:$L,$A11&" "&G$2) -> 2 | H11: =COUNTIF(변경분류!$L:$L,$A11&" "&H$2) -> 0 | I11: =COUNTIF(변경분류!$L:$L,$A11&" "&I$2) -> 4 | J11: =COUNTIF(변경분류!$L:$L,$A11&" "&J$2) -> 0 | K11: =COUNTIF(변경분류!$L:$L,$A11&" "&K$2) -> 3
A12: 강화군 | B12: =SUM(C12:K12) -> 14 | C12: =COUNTIF(변경분류!$L:$L,$A12&" "&C$2) -> 1 | D12: =COUNTIF(변경분류!$L:$L,$A12&" "&D$2) -> 2 | E12: =COUNTIF(변경분류!$L:$L,$A12&" "&E$2) -> 0 | F12: =COUNTIF(변경분류!$L:$L,$A12&" "&F$2) -> 0 | G12: =COUNTIF(변경분류!$L:$L,$A12&" "&G$2) -> 1 | H12: =COUNTIF(변경분류!$L:$L,$A12&" "&H$2) -> 4 | I12: =COUNTIF(변경분류!$L:$L,$A12&" "&I$2) -> 3 | J12: =COUNTIF(변경분류!$L:$L,$A12&" "&J$2) -> 0 | K12: =COUNTIF(변경분류!$L:$L,$A12&" "&K$2) -> 3
A13: 옹진군 | B13: =SUM(C13:K13) -> 11 | C13: =COUNTIF(변경분류!$L:$L,$A13&" "&C$2) -> 2 | D13: =COUNTIF(변경분류!$L:$L,$A13&" "&D$2) -> 1 | E13: =COUNTIF(변경분류!$L:$L,$A13&" "&E$2) -> 0 | F13: =COUNTIF(변경분류!$L:$L,$A13&" "&F$2) -> 0 | G13: =COUNTIF(변경분류!$L:$L,$A13&" "&G$2) -> 0 | H13: =COUNTIF(변경분류!$L:$L,$A13&" "&H$2) -> 6 | I13: =COUNTIF(변경분류!$L:$L,$A13&" "&I$2) -> 0 | J13: =COUNTIF(변경분류!$L:$L,$A13&" "&J$2) -> 2 | K13: =COUNTIF(변경분류!$L:$L,$A13&" "&K$2) -> 0

Sheet 변경분류
A1: 연번 | B1: 추전기관 | C1: 타입 | D1: 상호 | E1: 열1 | F1: 소재지 | G1: 연락처 | H1: 대표자 | I1: 대표음식 | J1: 추천사유 | K1: 열2
A2: =ROW()-1 -> 1 | B2: 중구 | C2: 단체식사 | D2: 돈비어천가 | E2: 중구 | F2: 중구 개항로 53번길 10 (내동) | G2: 777-1300 | H2: 임원경 | I2: 갈비 | J2: 100인이상 가능 | L2: =E2&" "&C2 -> 중구 단체식사
A3: =ROW()-1 -> 2 | B3: 중구 | C3: 단체식사 | D3: 인현통닭삼계탕 | E3: 중구 | F3: 중구 인현동 23번지 (인현동) | G3: 772-8487 | H3: 강지용 | I3: 삼계탕, 전기구이통닭 | J3: 100인이상 가능 | L3: =E3&" "&C3 -> 중구 단체식사
A4: =ROW()-1 -> 3 | B4: 중구 | C4: 단체식사 | D4: 해송 | E4: 중구 | F4: 중구 공항서로 177 (남북동) | G4: 747-0073 | H4: 김순이 | I4: 우렁이돌솥쌈밥 | J4: 100명 이상의 단체식사가 가능하며 신선한 쌈채소가 있는 쌈밥 전문점 | L4: =E4&" "&C4 -> 중구 단체식사
A5: =ROW()-1 -> 4 | B5: 중구 | C5: 단체식사 | D5: 동해막국수 | E5: 중구 | F5: 중구 용유서로479번길 16, 2층 (을왕동) | G5: 746-5522 | H5: 이대규 | I5: 막국수, 수육, 메밀전 | J5: 100명 이상의 단체식사가 가능하며 명태식해 수육이 별미인 음식점 | L5: =E5&" "&C5 -> 중구 단체식사
A6: =ROW()-1 -> 5 | B6: 중구 | C6: 특색음식 | D6: 을왕리고래식당 | E6: 중구 | F6: 중구 용유서로174번길 44 (을왕동) | G6: 752-0309 | H6: 김현정 | I6: 황제보신전골, 황제조삼구이 | J6: 소고기와 각종 해물이 어우러진 영양가득한 메뉴가 다양한 음식점 | L6: =E6&" "&C6 -> 중구 특색음식
A7: =ROW()-1 -> 6 | B7: 중구 | C7: 전통가옥 | D7: 기와집 담 | E7: 중구 | F7: 중구 용유로21번길 65-17 (덕교동) | G7: 747-0205 | H7: 최승훈 | I7: 해물골동반정식, 전복갈비탕정식 | J7: 전통분위기로 꾸며져있는 한식 전문점 | L7: =E7&" "&C7 -> 중구 전통가옥
A8: =ROW()-1 -> 7 | B8: 중구 | C8: 단체식사 | D8: 명품관 | E8: 중구 | F8: 중구 신도시남로141번길 13-5, 2층(운서동) | G8: 746-9233 | H8: 김경희 | I8: 양념소갈비 | J8: 객실 있는 300석 이상의 대형음식점 | L8: =E8&" "&C8 -> 중구 단체식사
A9: =ROW()-1 -> 8 | B9: 동구 | C9: 기타추천 | D9: 송미옥 | E9: 동구 | F9: 동구 화도진로5번길 11-3 (금곡동) | G9: 772-9951 | H9: 김현서 | I9: 복어회 복지리 | J9: 오래된 전통을 자랑하며 3대째 운영 | L9: =E9&" "&C9 -> 동구 기타추천
A10: =ROW()-1 -> 9 | B10: 동구 | C10: 기타추천 | D10: 할머니쭈꾸미 | E10: 동구 | F10: 동구 제물량로 340-1 (만석동,(1층)) | G10: 773-2419 | H10: 우순임 | I10: 주꾸미샤브샤브 주꾸미볶음 | J10: 오래된 전통을 자랑하며 3대째 운영 | L10: =E10&" "&C10 -> 동구 기타추천
A11: =ROW()-1 -> 10 | B11: 동구 | C11: 기타추천 | D11: 인천식당 | E11: 동구 | F11: 동구 금곡로81번길 22 (송림동) | G11: 766-0826 | H11: 유장현 | I11: 간장게장 불낙정식 | J11: 오래된 전통을 자랑하며 3대째 운영 | L11: =E11&" "&C11 -> 동구 기타추천
A12: =ROW()-1 -> 11 | B12: 동구 | C12: 기타추천 | D12: 아리랑회관 | E12: 동구 | F12: 동구 샛골로 121 (송림동) | G12: 766-0125 | H12: 가희섭 | I12: 내장탕 갈비찜 소불고기 | J12: 오래된 전통을 자랑하며 3대째 운영 | L12: =E12&" "&C12 -> 동구 기타추천
A13: =ROW()-1 -> 12 | B13: 동구 | C13: 기타추천 | D13: 서울식당 | E13: 동구 | F13: 동구 화수동 7번지 | G13: 772-4538 | H13: 한순성 | I13: 복어매운탕 서대매운탕 민어회 | J13: 오래된 전통을 자랑하며 2대째 운영 | L13: =E13&" "&C13 -> 동구 기타추천
... A21: =ROW()-1 -> 20 | B21: 연수구 | C21: 할랄음식 | D21: 아라베스크 | E21: 연수구 | F21: 연수구 한나루로 74 지상1층(옥련동) | G21: 859-6900 | H21: AL COUFAHY FIRAS MOHD | I21: 케밥,커리 | J21: 할랄음식 판매업소로 현지인이 직접 조리하며 외국인 이용이 많음. | L21: =E21&" "&C21 -> 연수구 할랄음식
A22: =ROW()-1 -> 21 | B22: 연수구 | C22: 대형객실 | D22: 송도갈매기 | E22: 연수구 | F22: 연수구 능허대로151번길 25(옥련동) | G22: 831-0010 | H22: 유정훈 | I22: 갈매기살구이 | J22: 단체식사가 존재하며 넓은 주차장 보유. | K22: 단체식사 | L22: =E22&" "&C22 -> 연수구 대형객실
A23: =ROW()-1 -> 22 | B23: 연수구 | C23: 단체식사 | D23: 이학갈비 | E23: 연수구 | F23: 연수구 먼우금로 208 (연수동) | G23: 815-4664 | H23: 윤희원 | I23: 녹차돼지왕갈비 | J23: 대형홀과 중.소형룸이 있으며, 연수동의 돼지갈비 대표맛집임. | L23: =E23&" "&C23 -> 연수구 단체식사
A24: =ROW()-1 -> 23 | B24: 연수구 | C24: 특색음식 | D24: 백제원 | E24: 연수구 | F24: 연수구 해돋이로 157(송도동) | G24: 831-2222 | H24: 디딤푸드 | I24: 한우보신탕 | J24: 수려한 외관 대형홀과 대.중.소의 다양한 룸이 있음 | L24: =E24&" "&C24 -> 연수구 특색음식
A25: =ROW()-1 -> 24 | B25: 연수구 | C25: 기타추천 | D25: 김푸드연수해물나라 | E25: 연수구 | F25: 연수구 벚꽃로 120 (연수동) | G25: 815-1010 | H25: 김지선 | I25: 전복해물갈비찜 | J25: 각종 매스컴과 손님들의 입소문이 자자한 곳으로 단골이 많은곳임. | L25: =E25&" "&C25 -> 연수구 기타추천
A26: =ROW()-1 -> 25 | B26: 남동구 | C26: 기타추천 | D26: 해월토장집 | E26: 남동구 | F26: 호구포로 734(구월동) | G26: 467-6221 | H26: 최미영 | I26: 된장수육 된장비빔밥 | J26: 남동구 맛으로 소문난 집, 시 맛있는집 | L26: =E26&" "&C26 -> 남동구 기타추천
A27: =ROW()-1 -> 26 | B27: 남동구 | C27: 기타추천 | D27: 부암갈비 | E27: 남동구 | F27: 용천로 149(간석동,(용천로 149)105 | G27: 425-5538 | H27: 윤한식 | I27: 돼지갈비 | J27: 인천시 맛있는집 | L27: =E27&" "&C27 -> 남동구 기타추천
A28: =ROW()-1 -> 27 | B28: 남동구 | C28: 기타추천 | D28: 구봉산 | E28: 남동구 | F28: 독점로 3번길 38-8(구월동) | G28: 428-1647 | H28: 한현숙 | I28: 산낙지곱창전골, 낙지전골 | J28: 남동수 맛으로 소문난 집 | L28: =E28&" "&C28 -> 남동구 기타추천
A29: =ROW()-1 -> 28 | B29: 남동구 | C29: 기타추천 | D29: 흑산도홍탁 | E29: 남동구 | F29: 장승남로 47번길 32-16,1층(만수동) | G29: 468-2202 | H29: 김정숙 | I29: 매생이홍어탕 | J29: 남동수 맛으로 소문난 집 | L29: =E29&" "&C29 -> 남동구 기타추천
A30: =ROW()-1 -> 29 | B30: 남동구 | C30: 단체식사 | D30: 신두리 | E30: 남동구 | F30: 담방로48번길 40(만수동,외1필지) | G30: 467-1612 | H30: 송수철 | I30: 영양갈비찜 | J30: 남동수 맛으로 소문난 집 | L30: =E30&" "&C30 -> 남동구 단체식사
A31: =ROW()-1 -> 30 | B31: 남동구 | C31: 단체식사 | D31: 아리랑삼계탕 | E31: 남동구 | F31: 소래로 545 (수산동 ,1층,2층) | G31: 461-4396 | H31: 오세정 | I31: 능이버섯삼계탕 | J31: 남동수 맛으로 소문난 집 | L31: =E31&" "&C31 -> 남동구 단체식사
A32: =ROW()-1 -> 31 | B32: 남동구 | C32: 기타추천 | D32: 블루베리팜 | E32: 남동구 | F32: 찬우물로 21(수산동) | G32: 463-7377 | H32: 김나연 | I32: 블루베리LA갈비 | J32: 남동수 맛으로 소문난 집 | L32: =E32&" "&C32 -> 남동구 기타추천
A33: =ROW()-1 -> 32 | B33: 남동구 | C33: 기타추천 | D33: 태백백숙 | E33: 남동구 | F33: 성마달로 30(구월동) | G33: 468-6163 | H33: 심은영 | I33: 한방청계닭백숙 | J33: 남동수 맛으로 소문난 집 | L33: =E33&" "&C33 -> 남동구 기타추천
A34: =ROW()-1 -> 33 | B34: 남동구 | C34: 단체식사 | D34: 장수가든 | E34: 남동구 | F34: 수현로 14번길 13-7(장수동) | G34: 465-9396 | H34: 이선호 | I34: 누룽지오리백숙 | J34: 남동수 맛으로 소문난 집 | L34: =E34&" "&C34 -> 남동구 단체식사
... A42: =ROW()-1 -> 41 | B42: 부평구 | C42: 자연풍경 | D42: (주)온누리푸드온 누리장작구이 | E42: 부평구 | F42: 동암산로 10 (십정동) | G42: 526-9292 | H42: 홍석배 | I42: 오리구이 | J42: 맛있는집, 도심속의 넓은 주차장과 주위경관이 숲으로 이루어진 소문난 오리전문 식당으로 부담없이 오리 요리를 즐기고 건강도 생각하고 전원 속 풍경을 누릴수 잇음 | L42: =E42&" "&C42 -> 부평구 자연풍경
A43: =ROW()-1 -> 42 | B43: 부평구 | C43: 특정국가 | D43: 비하니레스토랑 | E43: 부평구 | F43: 광장로 24번길 13(부평동) | G43: 525-8771 | H43: 저건나터 올리 | I43: 인도커리 | J43: 현지인 요리사로 인도요리를 맛볼 수 있음 | K43: 인도 | L43: =E43&" "&C43 -> 부평구 특정국가
A44: =ROW()-1 -> 43 | B44: 부평구 | C44: 특정국가 | D44: 포다쌀국수 | E44: 부평구 | F44: 부평대로 40번길 1(부평동) | G44: 070-7750-6668 | H44: 김석중 | I44: 베트남쌀국수 | J44: 현지인 요리사로 베트남 요리를 맛볼 수 있음 | K44: 베트남 | L44: =E44&" "&C44 -> 부평구 특정국가
A45: =ROW()-1 -> 44 | B45: 부평구 | C45: 특정국가 | D45: 깨딸 | E45: 부평구 | F45: 부평대로 40번길 6(부평동) | G45: 529-5251 | H45: 손선웅 | I45: 스페인요리 | J45: 대표자가 직접 스페인을 거주하면서 요리를 연구 개발하여 우리나라 입맛에 맞게 재구성한 집 | K45: 스페인 | L45: =E45&" "&C45 -> 부평구 특정국가
A46: =ROW()-1 -> 45 | B46: 계양구 | C46: 대형객실 | D46: 누룩골 | E46: 계양구 | F46: 계양구 경명대로 954(계산동) | G46: 549-4155 | H46: 김춘수 | I46: (능이버섯) 오리누룽지백숙,탕 토종닭누룽지백숙,탕 | J46: 음식점 단독부지이며 작은 정원으로 음식점 주변을 꾸며 놓았고 주차장이 넓어 이용이 편리하며 눙이버섯을 이용하여 특색음식을 하는 음식점임 | L46: =E46&" "&C46 -> 계양구 대형객실
A47: =ROW()-1 -> 46 | B47: 계양구 | C47: 자연풍경 | D47: 동해막국수 | E47: 계양구 | F47: 계양구 학고개길 15-29(갈현동) | G47: 515-2731 | H47: 이영순 | I47: 막국수 | J47: 음식점 단독부지에 작은 정원을 가꾸고 아기자기한 조형물과 싯구절로 멋을 살린 음식점임 | L47: =E47&" "&C47 -> 계양구 자연풍경
A48: =ROW()-1 -> 47 | B48: 계양구 | C48: 전통가옥 | D48: 소담 | E48: 계양구 | F48: 계양구 경명대로 1373번길 5-2(박촌동) | G48: 552-2323 | H48: 문재영 | I48: 한정식 | J48: 음식점 마당을 나무와 꽃으로 꾸민 한옥음식점으로 가족모임이나 상견례장소로 좋은 음식점임 | L48: =E48&" "&C48 -> 계양구 전통가옥
A49: =ROW()-1 -> 48 | B49: 계양구 | C49: 서민음식 | D49: 우두리 | E49: 계양구 | F49: 계양구 계산새로 71(계산동) | G49: 070-8282-4487 | H49: 김영삼 | I49: 돼지고기 석쇠구이, 된장찌개, 김치째개 | J49: 가격이 싸고 음식이 맛있고 사람들이 좋아하는 음식을 주로 하는 음식점으로 착한가게업소로 등록된 음식점임 | L49: =E49&" "&C49 -> 계양구 서민음식
A50: =ROW()-1 -> 49 | B50: 계양구 | C50: 기타추천 | D50: 벌말매운탕 | E50: 계양구 | F50: 계양구 벌말로565번길5(상야동) | G50: 544-5785 | H50: 김진환 | I50: 메기매운탕,빠가사리참게매운탕 | J50: 매운탕을 잘하는 곳으로 식사시간대에는 기다렸다 먹어야하며 수제비와 라면이 무한리필이고 주차장이 넓은 음식점임 | L50: =E50&" "&C50 -> 계양구 기타추천
A51: =ROW()-1 -> 50 | B51: 계양구 | C51: 기타추천 | D51: 고메돈까스 | E51: 계양구 | F51: 계양구 서부간선로 257(박촌동) | G51: 555-1122 | H51: 박성록 | I51: 수제돈까스,스파게티,화덕피자 | J51: 올해 개최된 계양맛집에서 수상한 업소로 음식점 단독부지이며 유럽풍 내부인테이어로 고급스럽고 음식이 맛있고 친절하여 연인이나 아이들과 함께 가면 좋은 음식점임 | L51: =E51&" "&C51 -> 계양구 기타추천
A52: =ROW()-1 -> 51 | B52: 계양구 | C52: 기타추천 | D52: 신교령사골순대국 | E52: 계양구 | F52: 계양구 벌말로 608(하야동) | G52: 546-6908 | H52: 신교령 | I52: 순대국,오대순대,철판스테이크 | J52: 서민들이 좋아하는 순대국이 대표음식으로 기존의 순대와 맛을 차별화하여 주인이 직접 순대를 만들어 판매하는 음식점으로 올해 개최된 계양맛집에서 수상한 업소이며 테라스를 설치하여 멋스런 경관을 연출하고 주차장이 넓은 음식점임 | L52: =E52&" "&C52 -> 계양구 기타추천
A53: =ROW()-1 -> 52 | B53: 서구 | C53: 단체식사 | D53: 한우야 | E53: 서구 | F53: 인천광역시 서구 원적로124번길 1(가좌동) | G53: 577-1000 | H53: ㈜한우야 | I53: 한우 | J53: 한우전문 음식점으로 명품음식점으로 지정됨 | L53: =E53&" "&C53 -> 서구 단체식사
A54: =ROW()-1 -> 53 | B54: 서구 | C54: 단체식사 | D54: 만미가 | E54: 서구 | F54: 인천광역시 서구 백범로622번길 20, 2층(가좌동) | G54: 5710590 | H54: 최명순 | I54: 장어구이 | J54: 독채건물의 장어구이 전문 음식점 | L54: =E54&" "&C54 -> 서구 단체식사
...
