Workbook

Sheet Sheet1
A1: 변경분류
B2: 계 | C2: 단체식사 | D2: 대형객실 | E2: 특정국가 | F2: 할랄음식 | G2: 자연풍경 | H2: 특색음식 | I2: 전통가옥 | J2: 서민음식 | K2: 기타추천
A3: 합계 | B3: =SUM(B4:B13) -> 104 | C3: =SUM(C4:C13) -> 20 | D3: =SUM(D4:D13) -> 8 | E3: =SUM(E4:E13) -> 5 | F3: =SUM(F4:F13) -> 5 | G3: =SUM(G4:G13) -> 6 | H3: =SUM(H4:H13) -> 14 | I3: =SUM(I4:I13) -> 15 | ... K3: =SUM(K4:K13) -> 26
A4: 중구 | B4: =SUM(C4:K4) -> 14 | C4: =COUNTIF(변경분류!$L:$L,$A4&" "&C$2) -> 5 | D4: =COUNTIF(변경분류!$L:$L,$A4&" "&D$2) -> 0 | E4: =COUNTIF(변경분류!$L:$L,$A4&" "&E$2) -> 1 | F4: =COUNTIF(변경분류!$L:$L,$A4&" "&F$2) -> 1 | G4: =COUNTIF(변경분류!$L:$L,$A4&" "&G$2) -> 0 | H4: =COUNTIF(변경분류!$L:$L,$A4&" "&H$2) -> 1 | I4: =COUNTIF(변경분류!$L:$L,$A4&" "&I$2) -> 5 | J4: =COUNTIF(변경분류!$L:$L,$A4&" "&J$2) -> 0 | K4: =COUNTIF(변경분류!$L:$L,$A4&" "&K$2) -> 1
A5: 동구 | B5: =SUM(C5:K5) -> 6 | C5: =COUNTIF(변경분류!$L:$L,$A5&" "&C$2) -> 0 | D5: =COUNTIF(변경분류!$L:$L,$A5&" "&D$2) -> 0 | E5: =COUNTIF(변경분류!$L:$L,$A5&" "&E$2) -> 0 | F5: =COUNTIF(변경분류!$L:$L,$A5&" "&F$2) -> 0 | G5: =COUNTIF(변경분류!$L:$L,$A5&" "&G$2) -> 0 | H5: =COUNTIF(변경분류!$L:$L,$A5&" "&H$2) -> 0 | I5: =COUNTIF(변경분류!$L:$L,$A5&" "&I$2) -> 0 | J5: =COUNTIF(변경분류!$L:$L,$A5&" "&J$2) -> 0 | K5: =COUNTIF(변경분류!$L:$L,$A5&" "&K$2) -> 6
A6: 남구 | B6: =SUM(C6:K6) -> 5 | C6: =COUNTIF(변경분류!$L:$L,$A6&" "&C$2) -> 3 | D6: =COUNTIF(변경분류!$L:$L,$A6&" "&D$2) -> 0 | E6: =COUNTIF(변경분류!$L:$L,$A6&" "&E$2) -> 0 | F6: =COUNTIF(변경분류!$L:$L,$A6&" "&F$2) -> 0 | G6: =COUNTIF(변경분류!$L:$L,$A6&" "&G$2) -> 0 | H6: =COUNTIF(변경분류!$L:$L,$A6&" "&H$2) -> 0 | I6: =COUNTIF(변경분류!$L:$L,$A6&" "&I$2) -> 0 | J6: =COUNTIF(변경분류!$L:$L,$A6&" "&J$2) -> 2 | K6: =COUNTIF(변경분류!$L:$L,$A6&" "&K$2) -> 0
A7: 연수구 | B7: =SUM(C7:K7) -> 10 | C7: =COUNTIF(변경분류!$L:$L,$A7&" "&C$2) -> 1 | D7: =COUNTIF(변경분류!$L:$L,$A7&" "&D$2) -> 1 | E7: =COUNTIF(변경분류!$L:$L,$A7&" "&E$2) -> 0 | F7: =COUNTIF(변경분류!$L:$L,$A7&" "&F$2) -> 4 | G7: =COUNTIF(변경분류!$L:$L,$A7&" "&G$2) -> 0 | H7: =COUNTIF(변경분류!$L:$L,$A7&" "&H$2) -> 2 | I7: =COUNTIF(변경분류!$L:$L,$A7&" "&I$2) -> 1 | J7: =COUNTIF(변경분류!$L:$L,$A7&" "&J$2) -> 0 | K7: =COUNTIF(변경분류!$L:$L,$A7&" "&K$2) -> 1
A8: 남동구 | B8: =SUM(C8:K8) -> 12 | C8: =COUNTIF(변경분류!$L:$L,$A8&" "&C$2) -> 3 | D8: =COUNTIF(변경분류!$L:$L,$A8&" "&D$2) -> 0 | E8: =COUNTIF(변경분류!$L:$L,$A8&" "&E$2) -> 1 | F8: =COUNTIF(변경분류!$L:$L,$A8&" "&F$2) -> 0 | G8: =COUNTIF(변경분류!$L:$L,$A8&" "&G$2) -> 1 | H8: =COUNTIF(변경분류!$L:$L,$A8&" "&H$2) -> 0 | I8: =COUNTIF(변경분류!$L:$L,$A8&" "&I$2) -> 1 | J8: =COUNTIF(변경분류!$L:$L,$A8&" "&J$2) -> 0 | K8: =COUNTIF(변경분류!$L:$L,$A8&" "&K$2) -> 6
A9: 부평구 | B9: =SUM(C9:K9) -> 11 | C9: =COUNTIF(변경분류!$L:$L,$A9&" "&C$2) -> 3 | D9: =COUNTIF(변경분류!$L:$L,$A9&" "&D$2) -> 2 | E9: =COUNTIF(변경분류!$L:$L,$A9&" "&E$2) -> 3 | F9: =COUNTIF(변경분류!$L:$L,$A9&" "&F$2) -> 0 | G9: =COUNTIF(변경분류!$L:$L,$A9&" "&G$2) -> 1 | H9: =COUNTIF(변경분류!$L:$L,$A9&" "&H$2) -> 1 | I9: =COUNTIF(변경분류!$L:$L,$A9&" "&I$2) -> 0 | J9: =COUNTIF(변경분류!$L:$L,$A9&" "&J$2) -> 0 | K9: =COUNTIF(변경분류!$L:$L,$A9&" "&K$2) -> 1
A10: 계양구 | B10: =SUM(C10:K10) -> 9 | C10: =COUNTIF(변경분류!$L:$L,$A10&" "&C$2) -> 0 | D10: =COUNTIF(변경분류!$L:$L,$A10&" "&D$2) -> 1 | E10: =COUNTIF(변경분류!$L:$L,$A10&" "&E$2) -> 0 | F10: =COUNTIF(변경분류!$L:$L,$A10&" "&F$2) -> 0 | G10: =COUNTIF(변경분류!$L:$L,$A10&" "&G$2) -> 1 | H10: =COUNTIF(변경분류!$L:$L,$A10&" "&H$2) -> 0 | I10: =COUNTIF(변경분류!$L:$L,$A10&" "&I$2) -> 1 | J10: =COUNTIF(변경분류!$L:$L,$A10&" "&J$2) -> 1 | K10: =COUNTIF(변경분류!$L:$L,$A10&" "&K$2) -> 5
A11: 서구 | B11: =SUM(C11:K11) -> 12 | C11: =COUNTIF(변경분류!$L:$L,$A11&" "&C$2) -> 2 | D11: =COUNTIF(변경분류!$L:$L,$A11&" "&D$2) -> 1 | E11: =COUNTIF(변경분류!$L:$L,$A11&" "&E$2) -> 0 | F11: =COUNTIF(변경분류!$L:$L,$A11&" "&F$2) -> 0 | G11: =COUNTIF(변경분류!$L:$L,$A11&" "&G$2) -> 2 | H11: =COUNTIF(변경분류!$L:$L,$A11&" "&H$2) -> 0 | I11: =COUNTIF(변경분류!$L:$L,$A11&" "&I$2) -> 4 | J11: =COUNTIF(변경분류!$L:$L,$A11&" "&J$2) -> 0 | K11: =COUNTIF(변경분류!$L:$L,$A11&" "&K$2) -> 3
A12: 강화군 | B12: =SUM(C12:K12) -> 14 | C12: =COUNTIF(변경분류!$L:$L,$A12&" "&C$2) -> 1 | D12: =COUNTIF(변경분류!$L:$L,$A12&" "&D$2) -> 2 | E12: =COUNTIF(변경분류!$L:$L,$A12&" "&E$2) -> 0 | F12: =COUNTIF(변경분류!$L:$L,$A12&" "&F$2) -> 0 | G12: =COUNTIF(변경분류!$L:$L,$A12&" "&G$2) -> 1 | H12: =COUNTIF(변경분류!$L:$L,$A12&" "&H$2) -> 4 | I12: =COUNTIF(변경분류!$L:$L,$A12&" "&I$2) -> 3 | J12: =COUNTIF(변경분류!$L:$L,$A12&" "&J$2) -> 0 | K12: =COUNTIF(변경분류!$L:$L,$A12&" "&K$2) -> 3
A13: 옹진군 | B13: =SUM(C13:K13) -> 11 | C13: =COUNTIF(변경분류!$L:$L,$A13&" "&C$2) -> 2 | D13: =COUNTIF(변경분류!$L:$L,$A13&" "&D$2) -> 1 | E13: =COUNTIF(변경분류!$L:$L,$A13&" "&E$2) -> 0 | F13: =COUNTIF(변경분류!$L:$L,$A13&" "&F$2) -> 0 | G13: =COUNTIF(변경분류!$L:$L,$A13&" "&G$2) -> 0 | H13: =COUNTIF(변경분류!$L:$L,$A13&" "&H$2) -> 6 | I13: =COUNTIF(변경분류!$L:$L,$A13&" "&I$2) -> 0 | J13: =COUNTIF(변경분류!$L:$L,$A13&" "&J$2) -> 2 | K13: =COUNTIF(변경분류!$L:$L,$A13&" "&K$2) -> 0

Sheet 변경분류
A1: 연번 | B1: 추전기관 | C1: 타입 | D1: 상호 | E1: 열1 | F1: 소재지 | G1: 연락처 | H1: 대표자 | I1: 대표음식 | J1: 추천사유 | K1: 열2
A2: =ROW()-1 -> 1 | B2: 중구 | C2: 단체식사 | D2: 돈비어천가 | E2: 중구 | F2: 중구 개항로 53번길 10 (내동) | G2: 777-1300 | H2: 임원경 | I2: 갈비 | J2: 100인이상 가능 | L2: =E2&" "&C2 -> 중구 단체식사
A3: =ROW()-1 -> 2 | B3: 중구 | C3: 단체식사 | D3: 인현통닭삼계탕 | E3: 중구 | F3: 중구 인현동 23번지 (인현동) | G3: 772-8487 | H3: 강지용 | I3: 삼계탕, 전기구이통닭 | J3: 100인이상 가능 | L3: =E3&" "&C3 -> 중구 단체식사
A4: =ROW()-1 -> 3 | B4: 중구 | C4: 단체식사 | D4: 해송 | E4: 중구 | F4: 중구 공항서로 177 (남북동) | G4: 747-0073 | H4: 김순이 | I4: 우렁이돌솥쌈밥 | J4: 100명 이상의 단체식사가 가능하며 신선한 쌈채소가 있는 쌈밥 전문점 | L4: =E4&" "&C4 -> 중구 단체식사
A5: =ROW()-1 -> 4 | B5: 중구 | C5: 단체식사 | D5: 동해막국수 | E5: 중구 | F5: 중구 용유서로479번길 16, 2층 (을왕동) | G5: 746-5522 | H5: 이대규 | I5: 막국수, 수육, 메밀전 | J5: 100명 이상의 단체식사가 가능하며 명태식해 수육이 별미인 음식점 | L5: =E5&" "&C5 -> 중구 단체식사
A6: =ROW()-1 -> 5 | B6: 중구 | C6: 특색음식 | D6: 을왕리고래식당 | E6: 중구 | F6: 중구 용유서로174번길 44 (을왕동) | G6: 752-0309 | H6: 김현정 | I6: 황제보신전골, 황제조삼구이 | J6: 소고기와 각종 해물이 어우러진 영양가득한 메뉴가 다양한 음식점 | L6: =E6&" "&C6 -> 중구 특색음식
A7: =ROW()-1 -> 6 | B7: 중구 | C7: 전통가옥 | D7: 기와집 담 | E7: 중구 | F7: 중구 용유로21번길 65-17 (덕교동) | G7: 747-0205 | H7: 최승훈 | I7: 해물골동반정식, 전복갈비탕정식 | J7: 전통분위기로 꾸며져있는 한식 전문점 | L7: =E7&" "&C7 -> 중구 전통가옥
A8: =ROW()-1 -> 7 | B8: 중구 | C8: 단체식사 | D8: 명품관 | E8: 중구 | F8: 중구 신도시남로141번길 13-5, 2층(운서동) | G8: 746-9233 | H8: 김경희 | I8: 양념소갈비 | J8: 객실 있는 300석 이상의 대형음식점 | L8: =E8&" "&C8 -> 중구 단체식사
A9: =ROW()-1 -> 8 | B9: 동구 | C9: 기타추천 | D9: 송미옥 | E9: 동구 | F9: 동구 화도진로5번길 11-3 (금곡동) | G9: 772-9951 | H9: 김현서 | I9: 복어회 복지리 | J9: 오래된 전통을 자랑하며 3대째 운영 | L9: =E9&" "&C9 -> 동구 기타추천
A10: =ROW()-1 -> 9 | B10: 동구 | C10: 기타추천 | D10: 할머니쭈꾸미 | E10: 동구 | F10: 동구 제물량로 340-1 (만석동,(1층)) | G10: 773-2419 | H10: 우순임 | I10: 주꾸미샤브샤브 주꾸미볶음 | J10: 오래된 전통을 자랑하며 3대째 운영 | L10: =E10&" "&C10 -> 동구 기타추천
A11: =ROW()-1 -> 10 | B11: 동구 | C11: 기타추천 | D11: 인천식당 | E11: 동구 | F11: 동구 금곡로81번길 22 (송림동) | G11: 766-0826 | H11: 유장현 | I11: 간장게장 불낙정식 | J11: 오래된 전통을 자랑하며 3대째 운영 | L11: =E11&" "&C11 -> 동구 기타추천
A12: =ROW()-1 -> 11 | B12: 동구 | C12: 기타추천 | D12: 아리랑회관 | E12: 동구 | F12: 동구 샛골로 121 (송림동) | G12: 766-0125 | H12: 가희섭 | I12: 내장탕 갈비찜 소불고기 | J12: 오래된 전통을 자랑하며 3대째 운영 | L12: =E12&" "&C12 -> 동구 기타추천
A13: =ROW()-1 -> 12 | B13: 동구 | C13: 기타추천 | D13: 서울식당 | E13: 동구 | F13: 동구 화수동 7번지 | G13: 772-4538 | H13: 한순성 | I13: 복어매운탕 서대매운탕 민어회 | J13: 오래된 전통을 자랑하며 2대째 운영 | L13: =E13&" "&C13 -> 동구 기타추천
... A21: =ROW()-1 -> 20 | B21: 연수구 | C21: 할랄음식 | D21: 아라베스크 | E21: 연수구 | F21: 연수구 한나루로 74 지상1층(옥련동) | G21: 859-6900 | H21: AL COUFAHY FIRAS MOHD | I21: 케밥,커리 | J21: 할랄음식 판매업소로 현지인이 직접 조리하며 외국인 이용이 많음. | L21: =E21&" "&C21 -> 연수구 할랄음식
A22: =ROW()-1 -> 21 | B22: 연수구 | C22: 대형객실 | D22: 송도갈매기 | E22: 연수구 | F22: 연수구 능허대로151번길 25(옥련동) | G22: 831-0010 | H22: 유정훈 | I22: 갈매기살구이 | J22: 단체식사가 존재하며 넓은 주차장 보유. | K22: 단체식사 | L22: =E22&" "&C22 -> 연수구 대형객실
A23: =ROW()-1 -> 22 | B23: 연수구 | C23: 단체식사 | D23: 이학갈비 | E23: 연수구 | F23: 연수구 먼우금로 208 (연수동) | G23: 815-4664 | H23: 윤희원 | I23: 녹차돼지왕갈비 | J23: 대형홀과 중.소형룸이 있으며, 연수동의 돼지갈비 대표맛집임. | L23: =E23&" "&C23 -> 연수구 단체식사
A24: =ROW()-1 -> 23 | B24: 연수구 | C24: 특색음식 | D24: 백제원 | E24: 연수구 | F24: 연수구 해돋이로 157(송도동) | G24: 831-2222 | H24: 디딤푸드 | I24: 한우보신탕 | J24: 수려한 외관 대형홀과 대.중.소의 다양한 룸이 있음 | L24: =E24&" "&C24 -> 연수구 특색음식
A25: =ROW()-1 -> 24 | B25: 연수구 | C25: 기타추천 | D25: 김푸드연수해물나라 | E25: 연수구 | F25: 연수구 벚꽃로 120 (연수동) | G25: 815-1010 | H25: 김지선 | I25: 전복해물갈비찜 | J25: 각종 매스컴과 손님들의 입소문이 자자한 곳으로 단골이 많은곳임. | L25: =E25&" "&C25 -> 연수구 기타추천
A26: =ROW()-1 -> 25 | B26: 남동구 | C26: 기타추천 | D26: 해월토장집 | E26: 남동구 | F26: 호구포로 734(구월동) | G26: 467-6221 | H26: 최미영 | I26: 된장수육 된장비빔밥 | J26: 남동구 맛으로 소문난 집, 시 맛있는집 | L26: =E26&" "&C26 -> 남동구 기타추천
A27: =ROW()-1 -> 26 | B27: 남동구 | C27: 기타추천 | D27: 부암갈비 | E27: 남동구 | F27: 용천로 149(간석동,(용천로 149)105 | G27: 425-5538 | H27: 윤한식 | I27: 돼지갈비 | J27: 인천시 맛있는집 | L27: =E27&" "&C27 -> 남동구 기타추천
A28: =ROW()-1 -> 27 | B28: 남동구 | C28: 기타추천 | D28: 구봉산 | E28: 남동구 | F28: 독점로 3번길 38-8(구월동) | G28: 428-1647 | H28: 한현숙 | I28: 산낙지곱창전골, 낙지전골 | J28: 남동수 맛으로 소문난 집 | L28: =E28&" "&C28 -> 남동구 기타추천
A29: =ROW()-1 -> 28 | B29: 남동구 | C29: 기타추천 | D29: 흑산도홍탁 | E29: 남동구 | F29: 장승남로 47번길 32-16,1층(만수동) | G29: 468-2202 | H29: 김정숙 | I29: 매생이홍어탕 | J29: 남동수 맛으로 소문난 집 | L29: =E29&" "&C29 -> 남동구 기타추천
A30: =ROW()-1 -> 29 | B30: 남동구 | C30: 단체식사 | D30: 신두리 | E30: 남동구 | F30: 담방로48번길 40(만수동,외1필지) | G30: 467-1612 | H30: 송수철 | I30: 영양갈비찜 | J30: 남동수 맛으로 소문난 집 | L30: =E30&" "&C30 -> 남동구 단체식사
A31: =ROW()-1 -> 30 | B31: 남동구 | C31: 단체식사 | D31: 아리랑삼계탕 | E31: 남동구 | F31: 소래로 545 (수산동 ,1층,2층) | G31: 461-4396 | H31: 오세정 | I31: 능이버섯삼계탕 | J31: 남동수 맛으로 소문난 집 | L31: =E31&" "&C31 -> 남동구 단체식사
A32: =ROW()-1 -> 31 | B32: 남동구 | C32: 기타추천 | D32: 블루베리팜 | E32: 남동구 | F32: 찬우물로 21(수산동) | G32: 463-7377 | H32: 김나연 | I32: 블루베리LA갈비 | J32: 남동수 맛으로 소문난 집 | L32: =E32&" "&C32 -> 남동구 기타추천
A33: =ROW()-1 -> 32 | B33: 남동구 | C33: 기타추천 | D33: 태백백숙 | E33: 남동구 | F33: 성마달로 30(구월동) | G33: 468-6163 | H33: 심은영 | I33: 한방청계닭백숙 | J33: 남동수 맛으로 소문난 집 | L33: =E33&" "&C33 -> 남동구 기타추천
A34: =ROW()-1 -> 33 | B34: 남동구 | C34: 단체식사 | D34: 장수가든 | E34: 남동구 | F34: 수현로 14번길 13-7(장수동) | G34: 465-9396 | H34: 이선호 | I34: 누룽지오리백숙 | J34: 남동수 맛으로 소문난 집 | L34: =E34&" "&C34 -> 남동구 단체식사
... A42: =ROW()-1 -> 41 | B42: 부평구 | C42: 자연풍경 | D42: (주)온누리푸드온 누리장작구이 | E42: 부평구 | F42: 동암산로 10 (십정동) | G42: 526-9292 | H42: 홍석배 | I42: 오리구이 | J42: 맛있는집, 도심속의 넓은 주차장과 주위경관이 숲으로 이루어진 소문난 오리전문 식당으로 부담없이 오리 요리를 즐기고 건강도 생각하고 전원 속 풍경을 누릴수 잇음 | L42: =E42&" "&C42 -> 부평구 자연풍경
A43: =ROW()-1 -> 42 | B43: 부평구 | C43: 특정국가 | D43: 비하니레스토랑 | E43: 부평구 | F43: 광장로 24번길 13(부평동) | G43: 525-8771 | H43: 저건나터 올리 | I43: 인도커리 | J43: 현지인 요리사로 인도요리를 맛볼 수 있음 | K43: 인도 | L43: =E43&" "&C43 -> 부평구 특정국가
A44: =ROW()-1 -> 43 | B44: 부평구 | C44: 특정국가 | D44: 포다쌀국수 | E44: 부평구 | F44: 부평대로 40번길 1(부평동) | G44: 070-7750-6668 | H44: 김석중 | I44: 베트남쌀국수 | J44: 현지인 요리사로 베트남 요리를 맛볼 수 있음 | K44: 베트남 | L44: =E44&" "&C44 -> 부평구 특정국가
A45: =ROW()-1 -> 44 | B45: 부평구 | C45: 특정국가 | D45: 깨딸 | E45: 부평구 | F45: 부평대로 40번길 6(부평동) | G45: 529-5251 | H45: 손선웅 | I45: 스페인요리 | J45: 대표자가 직접 스페인을 거주하면서 요리를 연구 개발하여 우리나라 입맛에 맞게 재구성한 집 | K45: 스페인 | L45: =E45&" "&C45 -> 부평구 특정국가
A46: =ROW()-1 -> 45 | B46: 계양구 | C46: 대형객실 | D46: 누룩골 | E46: 계양구 | F46: 계양구 경명대로 954(계산동) | G46: 549-4155 | H46: 김춘수 | I46: (능이버섯) 오리누룽지백숙,탕 토종닭누룽지백숙,탕 | J46: 음식점 단독부지이며 작은 정원으로 음식점 주변을 꾸며 놓았고 주차장이 넓어 이용이 편리하며 눙이버섯을 이용하여 특색음식을 하는 음식점임 | L46: =E46&" "&C46 -> 계양구 대형객실
A47: =ROW()-1 -> 46 | B47: 계양구 | C47: 자연풍경 | D47: 동해막국수 | E47: 계양구 | F47: 계양구 학고개길 15-29(갈현동) | G47: 515-2731 | H47: 이영순 | I47: 막국수 | J47: 음식점 단독부지에 작은 정원을 가꾸고 아기자기한 조형물과 싯구절로 멋을 살린 음식점임 | L47: =E47&" "&C47 -> 계양구 자연풍경
A48: =ROW()-1 -> 47 | B48: 계양구 | C48: 전통가옥 | D48: 소담 | E48: 계양구 | F48: 계양구 경명대로 1373번길 5-2(박촌동) | G48: 552-2323 | H48: 문재영 | I48: 한정식 | J48: 음식점 마당을 나무와 꽃으로 꾸민 한옥음식점으로 가족모임이나 상견례장소로 좋은 음식점임 | L48: =E48&" "&C48 -> 계양구 전통가옥
A49: =ROW()-1 -> 48 | B49: 계양구 | C49: 서민음식 | D49: 우두리 | E49: 계양구 | F49: 계양구 계산새로 71(계산동) | G49: 070-8282-4487 | H49: 김영삼 | I49: 돼지고기 석쇠구이, 된장찌개, 김치째개 | J49: 가격이 싸고 음식이 맛있고 사람들이 좋아하는 음식을 주로 하는 음식점으로 착한가게업소로 등록된 음식점임 | L49: =E49&" "&C49 -> 계양구 서민음식
A50: =ROW()-1 -> 49 | B50: 계양구 | C50: 기타추천 | D50: 벌말매운탕 | E50: 계양구 | F50: 계양구 벌말로565번길5(상야동) | G50: 544-5785 | H50: 김진환 | I50: 메기매운탕,빠가사리참게매운탕 | J50: 매운탕을 잘하는 곳으로 식사시간대에는 기다렸다 먹어야하며 수제비와 라면이 무한리필이고 주차장이 넓은 음식점임 | L50: =E50&" "&C50 -> 계양구 기타추천
A51: =ROW()-1 -> 50 | B51: 계양구 | C51: 기타추천 | D51: 고메돈까스 | E51: 계양구 | F51: 계양구 서부간선로 257(박촌동) | G51: 555-1122 | H51: 박성록 | I51: 수제돈까스,스파게티,화덕피자 | J51: 올해 개최된 계양맛집에서 수상한 업소로 음식점 단독부지이며 유럽풍 내부인테이어로 고급스럽고 음식이 맛있고 친절하여 연인이나 아이들과 함께 가면 좋은 음식점임 | L51: =E51&" "&C51 -> 계양구 기타추천
A52: =ROW()-1 -> 51 | B52: 계양구 | C52: 기타추천 | D52: 신교령사골순대국 | E52: 계양구 | F52: 계양구 벌말로 608(하야동) | G52: 546-6908 | H52: 신교령 | I52: 순대국,오대순대,철판스테이크 | J52: 서민들이 좋아하는 순대국이 대표음식으로 기존의 순대와 맛을 차별화하여 주인이 직접 순대를 만들어 판매하는 음식점으로 올해 개최된 계양맛집에서 수상한 업소이며 테라스를 설치하여 멋스런 경관을 연출하고 주차장이 넓은 음식점임 | L52: =E52&" "&C52 -> 계양구 기타추천
A53: =ROW()-1 -> 52 | B53: 서구 | C53: 단체식사 | D53: 한우야 | E53: 서구 | F53: 인천광역시 서구 원적로124번길 1(가좌동) | G53: 577-1000 | H53: ㈜한우야 | I53: 한우 | J53: 한우전문 음식점으로 명품음식점으로 지정됨 | L53: =E53&" "&C53 -> 서구 단체식사
A54: =ROW()-1 -> 53 | B54: 서구 | C54: 단체식사 | D54: 만미가 | E54: 서구 | F54: 인천광역시 서구 백범로622번길 20, 2층(가좌동) | G54: 5710590 | H54: 최명순 | I54: 장어구이 | J54: 독채건물의 장어구이 전문 음식점 | L54: =E54&" "&C54 -> 서구 단체식사
A55: =ROW()-1 -> 54 | B55: 서구 | C55: 대형객실 | D55: 희래등 | E55: 서구 | F55: 인천광역시 서구 탁옥로86번길 6-1(심곡동) | G55: 5655800 | H55: 조귀정 | I55: 중식요리 | J55: 단독 연회장 보유 | L55: =E55&" "&C55 -> 서구 대형객실
A56: =ROW()-1 -> 55 | B56: 서구 | C56: 자연풍경 | D56: 주식회사 학운정 | E56: 서구 | F56: 인천광역시 서구 열우물로208번길 12(가좌동) | G56: 5848584 | H56: ㈜학운정 | I56: 간장게장 | J56: 음식점 단독부지에 정원을 가꾸고 있어 자연의 멋을 살린 음식점임 | L56: =E56&" "&C56 -> 서구 자연풍경
A57: =ROW()-1 -> 56 | B57: 서구 | C57: 자연풍경 | D57: 두메울 | E57: 서구 | F57: 인천광역시 서구 서곶로 246(심곡동) | G57: 5676700 | H57: 조대흠 | I57: 곰탕 | J57: 음식점 단독부지에 정원을 가꾸고 있어 자연의 멋을 살린 음식점임 | L57: =E57&" "&C57 -> 서구 자연풍경
A58: =ROW()-1 -> 57 | B58: 서구 | C58: 전통가옥 | D58: 자미궁 | E58: 서구 | F58: 인천광역시 서구 원당대로819번길 38(원당동) | G58: 5671188 | H58: 김현옥 | I58: 한정식 | J58: 한옥외관의 대형 음식점으로 단독부지에 정원을 가꾸고 있으며 명품음식점으로 지정됨 | L58: =E58&" "&C58 -> 서구 전통가옥
A59: =ROW()-1 -> 58 | B59: 서구 | C59: 전통가옥 | D59: 고루 | E59: 서구 | F59: 인천광역시 서구 승학로 386, 나동(검암동) | G59: 5694886 | H59: 이기영 | I59: 한정식 | J59: 한옥외관의 대형 음식점으로 단독부지에 정원을 가꾸고 있음 | L59: =E59&" "&C59 -> 서구 전통가옥
A60: =ROW()-1 -> 59 | B60: 서구 | C60: 전통가옥 | D60: 경복궁 | E60: 서구 | F60: 인천광역시 서구 완정로 105, 1,2층(왕길동) | G60: 5638300 | H60: ㈜무한푸드앤미트 | I60: 한정식 | J60: 한옥외관의 대형 음식점으로 가족행사 및 | L60: =E60&" "&C60 -> 서구 전통가옥
A61: =ROW()-1 -> 60 | B61: 서구 | C61: 전통가옥 | D61: 콩두리 | E61: 서구 | F61: 인천광역시 서구 도요지로227번길 3-9 (검암동) | G61: 5695569 | H61: 안인수 | I61: 두부요리 | J61: 한옥내관으로 꾸며진 음식점으로 저나트륨 건강음식점 | L61: =E61&" "&C61 -> 서구 전통가옥
A62: =ROW()-1 -> 61 | B62: 서구 | C62: 기타추천 | D62: 권오길손국수 본점 | E62: 서구 | F62: 인천광역시 서구 검단로 789 (불로동) | G62: 5647541 | H62: 김혜경 | I62: 칼국수 | J62: 국수장인이 직접 만드는 국수전문 맛집 | L62: =E62&" "&C62 -> 서구 기타추천
A63: =ROW()-1 -> 62 | B63: 서구 | C63: 기타추천 | D63: 풀사이드228청라점 | E63: 서구 | F63: 인천광역시 서구 경명대로 401, 2,3층(경서동) | G63: 8590009 | H63: ㈜디딤 | I63: 스테이크,피자,파스타 | J63: 음식점 내 수영장시설이 있음 | L63: =E63&" "&C63 -> 서구 기타추천
A64: =ROW()-1 -> 63 | B64: 강화군 | C64: 단체식사 | D64: 마니산 단골식당 | E64: 강화군 | F64: 강화군 화도면 마니산로 678 | G64: 937-1131 | H64: 안선임 | I64: 약쑥시래기밥 | J64: 200명 이상 식사가능하고 2015년 향토특색음식경연대회에서 대상수상한 맛집 강화도산 약쑥으로 만든 시래기밥은 별미(특허받음) | L64: =E64&" "&C64 -> 강화군 단체식사
A65: =ROW()-1 -> 64 | B65: 강화군 | C65: 전통가옥 | D65: 대청마루 | E65: 강화군 | F65: 강화군 선원면 냉정리 840-2 | G65: 932-8831 | H65: 원점순 | I65: 한정식,간장게장 | J65: 한옥스타일의 깨끗한 내부인테리어 "강화섬쌀밥 한정식1호점"으로 선정 | L65: =E65&" "&C65 -> 강화군 전통가옥
A66: =ROW()-1 -> 65 | B66: 강화군 | C66: 대형객실 | D66: 한자리한턱 | E66: 강화군 | F66: 강화군 화도면 해안남로 1046 | G66: 937-7889 | H66: 최운학 | I66: 시골밥상,간장게장 | J66: 시골밥상과 주인장이 직접꾸민 통나무 내부 인테리어 및 탁트인 전경을 자랑하는 곳 | L66: =E66&" "&C66 -> 강화군 대형객실
A67: =ROW()-1 -> 66 | B67: 강화군 | C67: 자연풍경 | D67: 솔향기 | E67: 강화군 | F67: 강화군 하점면 장정양오길147 | G67: 933-9995 | H67: 김종례 | I67: 해물탕 | J67: 음식점 단독부지에 정원을 가꾸고 있어 자연의 멋을 살린 음식점임 | L67: =E67&" "&C67 -> 강화군 자연풍경
A68: =ROW()-1 -> 67 | B68: 강화군 | C68: 기타추천 | D68: 뜰안의 정원 | E68: 강화군 | F68: 강화군 삼산면 삼산남로 828번길 26 | G68: 932-3071 | H68: 배예원 | I68: 퓨전 코스요리 | J68: 깔끔한 중세 르네상스풍 인테리어가 돋보이는 퓨전 코스요리 전문점 | L68: =E68&" "&C68 -> 강화군 기타추천
A69: =ROW()-1 -> 68 | B69: 강화군 | C69: 대형객실 | D69: 강화섬 보리밥 | E69: 강화군 | F69: 강화군 선원면 시리미로 146 | G69: 937-2982 | H69: 김영국 | I69: 보리비빔밥,메밀전병 | J69: 나물 보리비빔밥, 건강식단, 나트륨저감사업 모범실천업소 | L69: =E69&" "&C69 -> 강화군 대형객실
A70: =ROW()-1 -> 69 | B70: 강화군 | C70: 전통가옥 | D70: 편가네된장 | E70: 강화군 | F70: 강화군 화도면 가능포로 89번길11 | G70: 937-6479 | H70: 편도영 | I70: 된장찌개 | J70: 한옥외관에 토속적인 메뉴, 로컬 먹거리 쇼핑이 가능한 곳 | L70: =E70&" "&C70 -> 강화군 전통가옥
A71: =ROW()-1 -> 70 | B71: 강화군 | C71: 기타추천 | D71: 마니산 산채 | E71: 강화군 | F71: 강화군 화도면 해안남로 1182 | G71: 937-5151 | H71: 박광호 | I71: 산채비빔밥 | J71: 산채비빔밥전문으로 조미료를 쓰지않는 먹거리X파일 착한식당으로 선정된 바 있음 | L71: =E71&" "&C71 -> 강화군 기타추천
A72: =ROW()-1 -> 71 | B72: 강화군 | C72: 특색음식 | D72: 강화해신탕 | E72: 강화군 | F72: 강화군 선원면 중앙로 385 | G72: 933-6777 | H72: 정혜근 | I72: 해신탕 | J72: 2015년 향토특색음식경연대회에서 최우수상 수상 업소, 까페분위기에서 특색음식을.. | L72: =E72&" "&C72 -> 강화군 특색음식
A73: =ROW()-1 -> 72 | B73: 옹진군 | C73: 단체식사 | D73: 삼삼구이 | E73: 옹진군 | F73: 백령면 백령로 322 | G73: 836-3392 | H73: 박송월 | I73: 두부전골, 콩비지 | J73: 청정옹진 7미(味) 지정음식점으로 130명 정도의 단체식사가 가능함. | L73: =E73&" "&C73 -> 옹진군 단체식사
A74: =ROW()-1 -> 73 | B74: 옹진군 | C74: 단체식사 | D74: 영흥가든 | E74: 옹진군 | F74: 영흥면 영흥북로 35번길 80 | G74: 886-3911 | H74: 김상언 | I74: 꽃게탕,게장백반,바지락칼국수 | J74: 청정옹진 7미(味) 지정음식점으로 단체식사가 가능함. | L74: =E74&" "&C74 -> 옹진군 단체식사
A75: =ROW()-1 -> 74 | B75: 옹진군 | C75: 대형객실 | D75: 하늘가든 | E75: 옹진군 | F75: 영흥면 영흥북로 251번길 24 | G75: 886-3916 | H75: 허복순 | I75: 바지락고추장찌개,굴고추장찌개 | J75: 청정옹진 7미(味) 지정음식점으로 단체식사 및 100인 이상의 단체식사가 가능함. | L75: =E75&" "&C75 -> 옹진군 대형객실
... A83: =ROW()-1 -> 82 | B83: 옹진군 | C83: 서민음식 | D83: 어촌식당 | E83: 옹진군 | F83: 영흥면 영흥북로 154, 1층 | G83: 886-2044 | H83: 김선자 | I83: 모듬회, 회덮밥, 칼국수 | J83: 소규모 식당으로서 자연산 회를 취급하며 음식 맛이 좋음. | L83: =E83&" "&C83 -> 옹진군 서민음식
A84: =ROW()-1 -> 83 | B84: 옹진군 | C84: 단체식사 | D84: 잔디가든 | E84: 옹진군 | F84: 백령면사곶로89 | G84: 836-6091 | J84: 백령도 청정바다에서 잡아 해풍에서 건조시킨 쫄깃하고 담백한 자연산 반건조 우럭구이와 신선한 해삼 비빔밥이 인기있는 청정옹진 7미 지정음식점 100명이상의 단체식사 가능
A85: =ROW()-1 -> 84 | B85: 제과협회 | C85: 기타추천 | D85: 한상민 과자점 | E85: 계양구 | F85: 계양구 작전동 현대@상가 108호 | G85: 544-2729 | H85: 한용 | I85: 블루베리 쌀쉬폰, 팥 베리빵, 몽블랑 | J85: 돌가마로 구워낸 천연 발효 빵집 | L85: =E85&" "&C85 -> 계양구 기타추천
A86: =ROW()-1 -> 85 | B86: 제과협회 | C86: 기타추천 | D86: 세필즈 과자점 | E86: 서구 | F86: 서구 가좌2동 진주@ 5단지 상가 | G86: 578-0220 | H86: 조재희 | I86: 국산팥빵,강화쌀빵,꽃게빵 | J86: 로컬푸드를 주재료로 사용하는 천연효모 발효 빵집 | L86: =E86&" "&C86 -> 서구 기타추천
A87: =ROW()-1 -> 86 | B87: 외식업협회 | C87: 자연풍경 | D87: 구월퓨전토속음식 | E87: 남동구 | F87: 인천시 남동구 수산동 164-1 | G87: 858-0036 | H87: 김기원 | I87: 특선메뉴 | J87: 건물외관과 조경이 아름다운 곳 | L87: =E87&" "&C87 -> 남동구 자연풍경
A88: =ROW()-1 -> 87 | B88: 외식업협회 | C88: 특색음식 | D88: 우리가본집 | E88: 연수구 | F88: 인천시 연수구 경원대로 294 (연수동) | G88: 818-0007 | H88: 한상욱 | I88: 스피루리나양념갈비 | J88: 수려한 외관과 멋진 조경이 있으며, 대형홀과 대.중.소의 다양한 룸이 있고, 스피루리나를 이용한 소양념갈비가 대표 메뉴임. | L88: =E88&" "&C88 -> 연수구 특색음식
A89: =ROW()-1 -> 88 | B89: 외식업협회 | C89: 전통가옥 | D89: 초가집 | E89: 중구 | F89: 인천시 중구 운중로48번길 39 (운남동) | G89: 752-8878 | H89: 오상훈 | I89: 삼계탕 | J89: 한옥 내외관으로 꾸며저 있으며 외국인들도 좋아하는 삼계탕이 맛이 일품이다 | L89: =E89&" "&C89 -> 중구 전통가옥
A90: =ROW()-1 -> 89 | B90: 외식업협회 | C90: 특정국가 | D90: 타카이타이 | E90: 중구 | F90: 인천시 중구 우현로35번길 24-3, 2층 (신포동) | G90: 765-5576 | H90: 김태영 | I90: 팟타이,칠리잼볶음밥 | J90: 현지인조리사가 직접 조리하며 태국전통 음식을 한국식으로 개량함. | K90: 태국 | L90: =E90&" "&C90 -> 중구 특정국가
A91: =ROW()-1 -> 90 | B91: 외식업협회 | C91: 특정국가 | D91: 타코씨엘로 | E91: 남동구 | F91: 인천시 남동구 구월동 1474-2 | G91: 424 -6116 | H91: 이은효 | I91: 멕시코요리 | J91: 멕시코 요리사가 만드는 정통 멕시코요리와 분위기 | K91: 멕시코 | L91: =E91&" "&C91 -> 남동구 특정국가
A92: =ROW()-1 -> 91 | B92: 외식업협회 | C92: 전통가옥 | D92: 한옹가 | E92: 중구 | F92: 인천시 중구 남북로6번길 60 (남북동) | G92: 746-3912 | H92: 이효순 | I92: 한정식 | J92: 전통한옥식으로 꾸며져 있으며 모범음식점으로 지정됨. | L92: =E92&" "&C92 -> 중구 전통가옥
A93: =ROW()-1 -> 92 | B93: 설문/검색 | C93: 기타추천 | D93: 카페 오즈 | E93: 중구 | F93: 동화마을길 21-19 | G93: 761-4229 | H93: 황찬영 | I93: 짜장빙수,커피류 | J93: 애니메이션 캐릭터 피규어/짜장빙수 | L93: =E93&" "&C93 -> 중구 기타추천
A94: =ROW()-1 -> 93 | B94: 설문/검색 | C94: 전통가옥 | D94: 관동오리진 | E94: 중구 | F94: 신포로27번길 96 | G94: 777-5527 | H94: 이명희 | I94: 커피,떡 | J94: 일본식 적산건물(내,외부)/2층 떡제조기구 전시실 | L94: =E94&" "&C94 -> 중구 전통가옥
A95: =ROW()-1 -> 94 | B95: 설문/검색 | C95: 전통가옥 | D95: 팟알 | E95: 중구 | F95: 신포로27번길 96-2 | G95: 777-8686 | H95: 백영임 | I95: 팥빙수,단팥죽,카스텔라 | J95: 일본식 적산건물(내,외부)/개항기 일본제과점 판매품(팥빙수,단팥죽,카스텔라)판매 | L95: =E95&" "&C95 -> 중구 전통가옥
A96: =ROW()-1 -> 95 | B96: 설문/검색 | C96: 할랄음식 | D96: 아라베스크 | E96: 중구 | F96: 우현로 90-1 | G96: 764-0064 | H96: 피라스알코파이 | I96: 난&커리,믹스그릴 | J96: 인도 현지인 조리사 2명/할랄음식점 | L96: =E96&" "&C96 -> 중구 할랄음식
A97: =ROW()-1 -> 96 | B97: 설문/검색 | C97: 할랄음식 | D97: 세븐웨이즈 | E97: 연수구 | F97: 샘말로8번길 13-6 | G97: 812-8120 | H97: 김태영 | I97: 치킨카레,란,탄투리치킨 | J97: 파키스탄 출신 요리사 | L97: =E97&" "&C97 -> 연수구 할랄음식
A98: =ROW()-1 -> 97 | B98: 설문/검색 | C98: 전통가옥 | D98: 아리아리랑 | E98: 연수구 | F98: 송도유원지 부근 | G98: 833-0505 | H98: 이정우 | I98: 정식, 대통불고기정식 | J98: 내외관 전통한옥모양 | L98: =E98&" "&C98 -> 연수구 전통가옥
A99: =ROW()-1 -> 98 | B99: 설문/검색 | C99: 할랄음식 | D99: ㈜투루키스탄 레스토랑 | E99: 연수구 | F99: 옥련로 30 | G99: 834-1338 | H99: ZAKIROV SHERZAD | I99: 라그만,카자흐스키,물만두 | J99: 전체 할랄음식임 | L99: =E99&" "&C99 -> 연수구 할랄음식
A100: =ROW()-1 -> 99 | B100: 설문/검색 | C100: 전통가옥 | D100: 박물관산채마을 | E100: 남동구 | F100: 당좌로5번길 52, (구월동,(당좌로5번길 52) 2층일부) | G100: 466-3222 | H100: 김경희 | I100: 곤드레밥,울릉도부지깽이돌솥정식 | J100: 전통가옥으로 장식/매스컴 출연업소 | L100: =E100&" "&C100 -> 남동구 전통가옥
A101: =ROW()-1 -> 100 | B101: 설문/검색 | C101: 기타추천 | D101: 로즈스텔라가든 | E101: 계양구 | F101: 다남로143번길 12 | G101: 544-3624 | H101: 신세림 | I101: 커피,케잌,차 | J101: 한옥풍 외관, 작은 정원과 실내인테리어가 아기자기함. 도자기 및 꽃 판매 | L101: =E101&" "&C101 -> 계양구 기타추천
A102: =ROW()-1 -> 101 | B102: 설문/검색 | C102: 전통가옥 | D102: 돌기와집 | E102: 강화군 | F102: 강화 송해면 상도숭뢰길 116번길 39-10 | G102: 934-5482 | H102: 구옥순 | I102: 붕어찜,메기매운탕,추어탕 | J102: 돌기와 외관의 전통가옥 구조 | L102: =E102&" "&C102 -> 강화군 전통가옥
A103: =ROW()-1 -> 102 | B103: 설문/검색 | C103: 특색음식 | D103: 호산정 | E103: 강화군 | F103: 강화 읍 고비고개로 248-5 | G103: 932-8592 | H103: 배연성 | I103: 맛있는밥상(한정식) | J103: 식기를 직접 만든 도자기로 사용하여 고급스럽고 정갈한 느낌 | L103: =E103&" "&C103 -> 강화군 특색음식
... A106: =ROW()-1 -> 105 | B106: 설문/검색 | C106: 특색음식 | D106: 외내골가든 | E106: 강화군 | F106: 내가면 강화서로 289 | G106: 932-2488 | H106: 김미자 | I106: 젖국갈비 | J106: 강화전통향토음식 취급/두부,장류를 직접 만듬 | L106: =E106&" "&C106 -> 강화군 특색음식
